BEGIN:VCALENDAR
VERSION:2.0
PRODID:-//https://www.southwark.ac.uk///NONSGML kigkonsult.se iCalcreator 2.10.15//
METHOD:PUBLISH
BEGIN:VEVENT
UID:20260425T014130UTC-3318snjOi9@https://www.southwark.ac.uk/
DTSTAMP:20260425T014130Z
DESCRIPTION: https://www.southwark.ac.uk/events/event/3-open-day-november
DTSTART:20191107T160000Z
DTEND:20191107T190000Z
LOCATION:Southwark College ()
SUMMARY:Open Day November
URL:https://www.southwark.ac.uk/events/event/3-open-day-november
END:VEVENT
END:VCALENDAR
